BEGIN:VCALENDAR
VERSION:2.0
X-WR-TIMEZONE:Europe/Paris
PRODID:-//Audencia//NONSGML v1.0//EN
CALSCALE:GREGORIAN
BEGIN:VEVENT
SUMMARY:Volunteers Academy - Online discussion with the Audencia Alumni team and fellow alumni ambassadors
DTSTART:20221109T140000
DTEND:20221109T144500
UID:1408
DTSTAMP:20260425T210147
LOCATION:
DESCRIPTION: \n\nRegistrations reserved for Alumni ambassadors\n\nThe Volunteers Academy is invited to an online discussion with the Audencia Alumni team and fellow alumni ambassadors on Wednesday 9 November from 14h to 14h45-15h (French time).\n\n\n\n\nQuestion? : nushad.merchant@audencia.com\n\n 
BEGIN:VALARM
ACTION:DISPLAY
TRIGGER:-PT60M
DESCRIPTION:Volunteers Academy - Online discussion with the Audencia Alumni team and fellow alumni ambassadors
END:VALARM
END:VEVENT
END:VCALENDAR