BEGIN:VCALENDAR
VERSION:2.0
X-WR-TIMEZONE:Europe/Paris
PRODID:-//Audencia//NONSGML v1.0//EN
CALSCALE:GREGORIAN
BEGIN:VEVENT
SUMMARY:Chapter Colombia : Afterwork in Bogota with Audencia's Stephan Bey
DTSTART:20221119T020000
DTEND:20221119T040000
UID:1407
DTSTAMP:20260425T210026
LOCATION:Uniandinos - Alumni Association Calle 92 # 16-11, Chapinero, Cundinamarca, Colombia
DESCRIPTION:\n\nOn the occasion of Stephan Bey's visit to Bogota as Audencia's representative in Colombia, alumni are invited to join him for an informal afterwork on:\n \n\n	Date: Friday 18 November\n	Time: 7pm-9pm\n	At: Uniandinos Calle 92#16-11\n\n\nThis will be a great opportunity to catch up with all the latest news of Audencia and share stories with Stephan about your home city of Bogota!\n \n\n\n\nQuestion? : nushad.merchant@audencia.com \n\n\n \n\n 
BEGIN:VALARM
ACTION:DISPLAY
TRIGGER:-PT60M
DESCRIPTION:Chapter Colombia : Afterwork in Bogota with Audencia's Stephan Bey
END:VALARM
END:VEVENT
END:VCALENDAR