BEGIN:VCALENDAR
VERSION:2.0
X-WR-TIMEZONE:Europe/Paris
PRODID:-//Audencia//NONSGML v1.0//EN
CALSCALE:GREGORIAN
BEGIN:VEVENT
SUMMARY:Présentation du rapport final du projet ClimatSup Business
DTSTART:20221108T180000
DTEND:20221108T203000
UID:1406
DTSTAMP:20260425T210022
LOCATION:Atlantic_campus 8 Route de la Jonelière Nantes
DESCRIPTION:\nEnglish below\n\nBonjour à toutes et à tous, \n\n En septembre 2021, Audencia et le Shift Project s'associaient dans le cadre du projet "ClimatSup Business - Former les acteurs de l'économie de demain", pour transformer les enseignements et y intégrer les enjeux écologiques dans toutes les formations de gestion.\n\nNous avons aujourd'hui le plaisir de vous inviter à la présentation du rapport final, le mardi 8 novembre, de 18h à 20h30 à Audencia, 8 route de la Jonelière à Nantes.\n\nCette présentation sera également retransmise en direct sur audencia.com/live. \n\nDes éléments de ressources comme un guide pour les établissements ou un socle de connaissances et de compétences seront présentés pour accélérer sans attendre la formation des acteurs économiques à la transition qu'ils doivent engager. \n \n\n\n	\n		\n			\n			\n				18h00 : Mot d'accueil par Christophe Germain , Directeur Général d'Audencia\n			\n\n			\n				18h10 : "L'enseignement supérieur, clé de la transition écologique" avec l'intervention de Sébastien Chevalier, Chef du service de la coordination des stratégies de l'enseignement supérieur et de la recherche , Ministère de l'Enseignement supérieur et de la recherche\n			\n\n			\n				18h20 : "S'équiper des compétences pour mener la transition : première urgence pour les entreprises" avec Jean-Marc Jancovici, Président du Shift Project\n			\n\n			\n				18h30 : Présentation du rapport "ClimatSup Business" par Clémence Vorreux, Kelvin Frisquet et Vinciane Martin, Chargés du projet au sein du Shift\n			\n\n			\n				19h30 : Table ronde " Comment doter les acteurs économiques en compétences pour mener la transition ? " animée par Jean-Marc Jancovici avec : \n			\n			-   Marie-Neige Couriaut : Deputy Head, Group sustainability Business de Capgemini\n			-   Jean-Marc Ogier, Président de l'université de la Rochelle et représentant de France Universités*\n			-   Mathilde Gollety, Présidente de la Commission d'évaluation des formations et diplômes de gestion (CEFDG)\n			 \n			 * Intervenants à confirmer\n			 \n		\n	\n\n\n\n	\n		\n			\n			S'INSCRIRE\n			\n		\n	\n\n\nPour toute question, nous vous invitons à contacter le pôle Events d'Audencia : events@audencia.com\n \n\nHello all, \n\nAudencia and the Shift Project joined forces in September 2021 as part of the "ClimatSup Business - Training the actors of tomorrow's economy" project, in order to explore how to transform teaching in order to integrate ecological issues in all management training courses.\n\nWe are pleased to invite you to the presentation of the final report on Tuesday, November 8, from 6 to 8:30 pm at Audencia, 8 route de la Jonelière in Nantes. \n\nThis presentation will also be broadcasted live on audencia.com/live.\n\nA knowledge and skills foundation, a guide for institutions, and other elements and resources will be presented in order to accelerate the training of economic actors in the transition they are going to lead.\n\n\n\n	\n		\n			\n			\n				6.00 pm : Welcome by Christophe Germain, Director General of Audencia\n			\n\n			\n				6.10 pm : "Higher education, key to the ecological transition" with the intervention of Sébastien Chevalier, Head of the department for the coordination of higher education and research strategies, Ministry of Higher Education and Research\n			\n\n			\n				6.20 pm : "Equipping ourselves with the skills to lead the transition: the first emergency for companies" with  Jean-Marc Jancovici, President of the Shift Project \n			\n\n			\n				6.30 pm : Presentation of the "ClimatSup Business" report by Clémence Vorreux, Kelvin Frisquet and Vinciane Martin, Project Officers at the Shift Project\n			\n\n			\n				7.30 pm : Round table discussion "How to equip economic actors with the skills to lead the transition?" moderated by Jean-Marc Jancovici\n			\n			-   Marie-Neige Couriaut : Deputy Head, Group Sustainability Business of Capgemini \n			-   Jean-Marc Ogier, President of the University of La Rochelle and representative of France Universities*  \n			-   Mathilde Gollety, President of the Commission for the Evaluation of Management Training and Degrees (CEFDG)\n			 \n			 * Speakers to be confirmed\n			 \n		\n	\n\n \n\n\n	\n		\n			\n			\n				\n					\n						\n						\n							\n								\n									\n									\n										\n											\n												\n												REGISTER\n												\n											\n										\n									\n									\n								\n							\n						\n						\n					\n				\n			\n\n			\n				\n					\n						If you have any questions, please contact Audencia's Events Department: events@audencia.com\n					\n				\n			\n			\n		\n	\n
BEGIN:VALARM
ACTION:DISPLAY
TRIGGER:-PT60M
DESCRIPTION:Présentation du rapport final du projet ClimatSup Business
END:VALARM
END:VEVENT
END:VCALENDAR