BEGIN:VCALENDAR
VERSION:2.0
X-WR-TIMEZONE:Europe/Paris
PRODID:-//Audencia//NONSGML v1.0//EN
CALSCALE:GREGORIAN
BEGIN:VEVENT
SUMMARY:Chinese New Year Dinner in Paris
DTSTART:20230114T203000
DTEND:20230114T223000
UID:1405
DTSTAMP:20260425T210123
LOCATION:XiaoLongKan, 8 Rue Saint-Marc, Paris, France
DESCRIPTION:\n小年夜?小龙坎?\n\n名额有限?先到先得?\n\n如有疑问请致信：tcliu@audencia.com\n \n\n
BEGIN:VALARM
ACTION:DISPLAY
TRIGGER:-PT60M
DESCRIPTION:Chinese New Year Dinner in Paris
END:VALARM
END:VEVENT
END:VCALENDAR