BEGIN:VCALENDAR
VERSION:2.0
X-WR-TIMEZONE:Europe/Paris
PRODID:-//Audencia//NONSGML v1.0//EN
CALSCALE:GREGORIAN
BEGIN:VEVENT
SUMMARY:CCI France Chine Event: Beaujolais Nouveau 2022 in Guangzhou
DTSTART:20221117T120000
DTEND:20221117T153000
UID:1404
DTSTAMP:20260425T210118
LOCATION:Sofitel Guangzhou Sunrich, No. 988, Guangzhou Avenue Central, Tianhe District, Guangzhou City
DESCRIPTION:Introduction 活动简介\n\n \n\nBeaujolais Nouveau is a traditional and historical French event that celebrates the famous Beaujolais Nouveau Wine on the 3rd Thursday of November each year.\n\n博若莱新酒是法国的一个传统和历史的活动，在每年11月的第三个星期四庆祝著名的博若莱新酒。\n\n \n\nCCI FRANCE CHINE, in partnership with the General Consulate of France in Guangzhou, Georges Duboeuf, and Canton Accueil, will celebrate the arrival of the Beaujolais Nouveau wine at Sofitel Guangzhou Sunrich on Thursday, November 17th and at Crowne Plaza Futian on Friday, November 18th.\n中国法国工商会与法国驻广州总领事馆，Georges Duboeuf及Canton Accueil合作，将分别于11月17日（星期）在广州圣丰索菲特酒店及11月18日（星期五）在深圳好日子皇冠假日酒店庆祝博若莱新酒的到来。\n\n\n\n \n\nThe French Consul General Mr. Sylvain Fourrière and his team will attend both events in Guangzhou and Shenzhen.\n\n新任法国驻广州总领事福希玮先生及其团队将出席深圳和广州两场活动。\n\n \n\nThis Beaujolais Nouveau Wine Festival marked by joy will happily blend with dinner feasts, live show, social networking and of course the discovery of Beaujolais Nouveau wine. As always, our catering partners will be on hand to serve traditional French specialties at the welcome cocktail.\n\n这个以欢乐为标志的博若莱新酒节将与晚餐盛宴、现场表演、社交活动，当然还有博若莱新酒的发现愉快地融合在一起。一如既往，我们的餐饮合作伙伴将在欢迎鸡尾酒会上提供传统的法国特色菜肴。\n\n \n\nLIMITED TICKETS 限量门票\n\nSince the number of tickets is limited, we will treat your registrations \n\non a first come, first served basis!\n\n门票数量有限，先到先得！\n\n \n\n \n\nEvent Details | 活动详情:\n\n \n\nDate 日期: Thursday, November 17th 2022 - 11月17日周四​\n\nTime 时间: 7:00 PM to 11:30 PM\n\nVenue 地址: Sofitel Guangzhou Sunrich | 广州圣丰索菲特酒店\n\nNo. 988, Guangzhou Avenue Central, Tianhe District, Guangzhou City\n\n广州市天河区广州大道中988号\n\n \n\nInterested? Contact tcliu@audencia.com for registration info. 
BEGIN:VALARM
ACTION:DISPLAY
TRIGGER:-PT60M
DESCRIPTION:CCI France Chine Event: Beaujolais Nouveau 2022 in Guangzhou
END:VALARM
END:VEVENT
END:VCALENDAR