BEGIN:VCALENDAR
VERSION:2.0
X-WR-TIMEZONE:Europe/Paris
PRODID:-//Audencia//NONSGML v1.0//EN
CALSCALE:GREGORIAN
BEGIN:VEVENT
SUMMARY:CCI France Chine Event: European Business in China - Position Paper 2022/2023
DTSTART:20221116T113000
DTEND:20221116T130000
UID:1402
DTSTAMP:20260425T205952
LOCATION:CCI FRANCE CHINE Shanghai Office, Shanghai, China
DESCRIPTION:Introduction\n\nThe European Business in China Position Paper (Position Paper) is the European Chamber's most important publication and the cornerstone of its annual advocacy plan. Compiled by its 41working groups, sub-working groups and fora over a six-month period, the 967 constructive recommendations contained in the Position Paper illustrate both the depth of the challenges faced by European companies in China and their commitment to improving the business environment.\n\n \n\nAgenda\n\n6:30 pm - 7:00 pm: Welcome of the participants\n\n7:00 pm - 8:00 pm: Presentation and Q&A\n\n8:00 pm - 9:00 pm: Cocktail\n\n\nDate: Wednesday, 16 November 2022\n\nTime: 6:30 pm - 8:00 pm\n\nLanguage: English\n\nEvent Format: Offline in CCIFC Shanghai Office & Online via Webinar\n\nEvent Offline Venue: At CCI FRANCE CHINE Shanghai Office \n\nRegistration: Scan the QR code or click here\n\n
BEGIN:VALARM
ACTION:DISPLAY
TRIGGER:-PT60M
DESCRIPTION:CCI France Chine Event: European Business in China - Position Paper 2022/2023
END:VALARM
END:VEVENT
END:VCALENDAR