BEGIN:VCALENDAR
VERSION:2.0
X-WR-TIMEZONE:Europe/Paris
PRODID:-//Audencia//NONSGML v1.0//EN
CALSCALE:GREGORIAN
BEGIN:VEVENT
SUMMARY:CCI France Chine Event: European Business in China - Position Paper 2022/2023
DTSTART:20221103T113000
DTEND:20221103T130000
UID:1401
DTSTAMP:20260425T210043
LOCATION:TBC
DESCRIPTION:Date: Thursday, 3 November 2022\n\nTime: 6:30 pm - 8:00 pm (Beijing)\n\nLanguage: English\n\nEvent Format: Offline in Beijing & Online via Webinar\n\nStay tuned, registrations will soon be open.
BEGIN:VALARM
ACTION:DISPLAY
TRIGGER:-PT60M
DESCRIPTION:CCI France Chine Event: European Business in China - Position Paper 2022/2023
END:VALARM
END:VEVENT
END:VCALENDAR