BEGIN:VCALENDAR
VERSION:2.0
X-WR-TIMEZONE:Europe/Paris
PRODID:-//Audencia//NONSGML v1.0//EN
CALSCALE:GREGORIAN
BEGIN:VEVENT
SUMMARY:France Alumni photography competition, London, UK
DTSTART:20221010T150000
DTEND:20221010T170000
UID:1400
DTSTAMP:20260425T210207
LOCATION:Institut Français du Royaume Uni 17 Queensberry Place London SW7 2DT
DESCRIPTION:Launch of the France Alumni UK network\n\nFrance Alumni is looking for the most striking pictures taken by UK-based students in France. Every alumnus that enters the contest will automatically be invited to the launch event on the 10th of October organized by the French Embassy in London.\n\nDid you study in France?\nHave you experienced French student life?\nThen you must have loads of pictures!\nHere is a good opportunity to go down Memory lane… and be invited to the France Alumni UK launch event where you may win the big prize! \n\nSo open your drive box/ Facebook albums / printed albums and chose what you think to represent the most striking of your French moments.\n\nHere’s how to enter : \n1. Register to the France Alumni UK platform (if you haven't already done so) : you must currently live in the UK (all nationalities except French) and have studied in France at some point (as an exchange student or degree seeker.\n2. Send an email to: lucile.genin@ambascience.org with : \n\n	Your name / current profession/year and duration of your stay in France / name of the French higher institution/name of your home institution in the UK if relevant / topic of your studies in France\n	The picture in good quality (png or jpeg) and printable format (pictures unintentionally blurred or too small won’t be selected)\n	The title of the picture accompanied by a small explanation and the year it was taken.\n\n3. An acknowledgement giving us the right to share the visual and the caption (credited with your name) on our Twitter account @CampusFranceUK\n4. Deadline for entering : 20 September 2022\n\nThe pictures will be exhibited at the launch of the French Alumni UK network and the winner will be awarded a beautiful prize… to be discovered!\n\nOnce you will have sent your contest application, we will get in touch with you to confirm you have entered the contest and will be invited to the France Alumni UK launch on the 10 October… Save the date!\n\n \n
BEGIN:VALARM
ACTION:DISPLAY
TRIGGER:-PT60M
DESCRIPTION:France Alumni photography competition, London, UK
END:VALARM
END:VEVENT
END:VCALENDAR