BEGIN:VCALENDAR
VERSION:2.0
X-WR-TIMEZONE:Europe/Paris
PRODID:-//Audencia//NONSGML v1.0//EN
CALSCALE:GREGORIAN
BEGIN:VEVENT
SUMMARY:Sortie Théâtre "Trois"
DTSTART:20171220T210000
DTEND:20171220T223000
UID:140
DTSTAMP:20260425T205854
LOCATION:Théâtre Darius Milhaud 80 allée Darius Milhaud, 75019 Paris
DESCRIPTION:Bonjour à tous,\n\nUne sortie culturelle vous est proposée pour passer un bon moment avant les fêtes par un de nos diplômés Audencien - Thierry Garnier - devenu comédien professionnel il y a 2 ans.\n\nThierry joue ainsi dans une dizaine de pièces et autant de films par an. Il est ravi de vous convier à venir voir sa pièce "Trois" qu'il a rejointe en 2015 et qui a été jouée à de nombreuses reprises à Paris, Lyon, région parisienne, en festivals...avant d'être repérée par le TDM  (Théâtre Darius Milhaud) à Paris pour une programmation de 3 mois.\n\nTroisième pièce écrite et mise en scène par Cléo Dangoin, elle traite avec poésie d'une histoire d'amour "comme les autres"...mais entre 2 hommes et une femme : un trouple.\n\nL'histoire :\nPaul, Lise et Adam se sont dit qu'il fallait faire mieux que toutes les autres histoires d'amour, qu'il fallait faire plus grand, plus fort : alors ils sont trois. C'est un mécanisme bien réglé, la preuve que ça peut marcher. Ils se font rire, ils se connaissent par coeur, et leur horloge à trois fonctionne, et fonctionne bien.\nMais il faut toujours un grain de sable. Et l'un d'eux va être attiré vers le dehors. L'envie de rester à trois contre le reste du monde est soudain avalée par un quatre, venu d'une histoire passée.\n\nLa bande annonce ici : https://www.youtube.com/watch?v=e6gMzUKWZRg\n\nVous pouvez acheter vos billets sur billet reduc http://www.billetreduc.com/193356/evt.htm \nou auprès du théâtre Darius https://www.theatredariusmilhaud.fr/programme-des-spectacles/trois/\n\nA l'issue de la représentation, vous pourrez rencontrer les comédiens et le metteur en scène autour d'un verre dans un café à côté et leur poser toutes vos questions.\n\nAuteur et metteur en scène : Cléo Dangoin \nAssistante mise en scène : Noémie Briand \nComédiens : Louise Emma Morel, Romain Valembois Thierry Garnier\n\nMerci de vous inscrire sur together afin que nous puissions prévenir Thierry de votre venue et pour le bar\n 
BEGIN:VALARM
ACTION:DISPLAY
TRIGGER:-PT60M
DESCRIPTION:Sortie Théâtre "Trois"
END:VALARM
END:VEVENT
END:VCALENDAR