BEGIN:VCALENDAR
VERSION:2.0
X-WR-TIMEZONE:Europe/Paris
PRODID:-//Audencia//NONSGML v1.0//EN
CALSCALE:GREGORIAN
BEGIN:VEVENT
SUMMARY:Networking in London, UK
DTSTART:20170426T190000
DTEND:20170426T213000
UID:14
DTSTAMP:20260425T205844
LOCATION:Grange City Hotel 8-14 Cooper's Row, London, EC3N 2BQ
DESCRIPTION:AMBA, the Association of MBAs, is organising a networking event.\n\nJoin them in London on 26 April to meet and network with MBA students and graduates from AMBA-accredited programmes.\n\nEvening Timetable:\n19.00 – 20.00 Registration and networking drinks\n20.00 – 21.00 Presentation by Jason Allan Scott\n21.00 – 21.30 Networking drinks\n\nLocation: Grange City Hotel\nDate: 26 April 2017\nTime: 19.00 to 21.30\n\nAddress: 8-14 Cooper's Row\nLondon, EC3N 2BQ\nUnited Kingdom\n\nThis event is aimed at alumni of AMBA-accredited programmes. At Audencia, these programmes are: Executive MBA, MBA in Responsible Management and Master in Management (Grande Ecole Programme). The event is free for AMBA members but registration is required. Registering as an alumus/alumna of an AMBA-accredited programme takes only a few minutes.\nGo to www.mbaworld.com/communitysignup \n\n	complete your personal details\n	select ‘Graduate’ from the ‘I am a’ drop down\n	select your Business School\n	enter the following access key: G25912\n	 \n\n\nOnce you have registered as an AMBA alum, you can register for the event.\n\n\nIf you have any questions about registering, please contact the AMBA Membership Team who will be happy to help.
BEGIN:VALARM
ACTION:DISPLAY
TRIGGER:-PT60M
DESCRIPTION:Networking in London, UK
END:VALARM
END:VEVENT
END:VCALENDAR