BEGIN:VCALENDAR
VERSION:2.0
X-WR-TIMEZONE:Europe/Paris
PRODID:-//Audencia//NONSGML v1.0//EN
CALSCALE:GREGORIAN
BEGIN:VEVENT
SUMMARY:TRADITIONNELLE FONDUE / MARCHE DE NOEL DE GENEVE
DTSTART:20221201T190000
DTEND:20221201T230000
UID:1397
DTSTAMP:20260425T205946
LOCATION:Quai du Général-Guisan 34, 1204 Genève
DESCRIPTION:Prochain AFTERWORK & DINER au marché de Noel de Genève\n\nNous vous donnons rendez-vous au marché éphémère qui se tiendra au Jardin Anglais. \n\nRendez vous dès 19h30 au niveau de la fontaine illuminée pour partager un (ou plusieurs) verres avant de pouvoir accéder à notre réservation qui est à 21h.\n\nInformation : https://noel-au-jardin.ch/lechaletafondue\n\nEn cas de problème pour nous trouver merci de me joindre à mon numéro: +33 6 66 83 03 71\n– Melina
BEGIN:VALARM
ACTION:DISPLAY
TRIGGER:-PT60M
DESCRIPTION:TRADITIONNELLE FONDUE / MARCHE DE NOEL DE GENEVE
END:VALARM
END:VEVENT
END:VCALENDAR