BEGIN:VCALENDAR
VERSION:2.0
X-WR-TIMEZONE:Europe/Paris
PRODID:-//Audencia//NONSGML v1.0//EN
CALSCALE:GREGORIAN
BEGIN:VEVENT
SUMMARY:Dinner with Class Ambassadors 2021
DTSTART:20221118T191500
DTEND:20221118T223000
UID:1396
DTSTAMP:20260425T210142
LOCATION:43 rue Dutot, 75015 PARIS
DESCRIPTION:\nClass Ambassadors of 2021 are cordially invited to a dinner at the restaurant Vinévietable Montparnasse on Friday 18 November at 7:15pm.\n 
BEGIN:VALARM
ACTION:DISPLAY
TRIGGER:-PT60M
DESCRIPTION:Dinner with Class Ambassadors 2021
END:VALARM
END:VEVENT
END:VCALENDAR