BEGIN:VCALENDAR
VERSION:2.0
X-WR-TIMEZONE:Europe/Paris
PRODID:-//Audencia//NONSGML v1.0//EN
CALSCALE:GREGORIAN
BEGIN:VEVENT
SUMMARY:Livestream with Thomas Roulet, GE 09
DTSTART:20221007T134500
DTEND:20221007T143000
UID:1395
DTSTAMP:20260425T210022
LOCATION:
DESCRIPTION:Tune in for a livestream on Friday 7 October at 13:45 (French time)\n \nJoin live by following this link\n\nThomas Roulet (GE 09), Associate Professor in Organisation Theory & Deputy Director of the MBA at the University of Cambridge, will be talking live talk about company reputations, bad companies to work for and the power of being divisive.\n\nThere's no doubt that some companies or industries have terrible reputations. Depending on your political persuasion, you can think of tobacco, fossil fuels, arms manufacturers as vilified industries. \n\nBut does that mean you should avoid working for them? Thomas Roulet looks at why people work for companies with bad reputations and whether it is worth it. Thomas teaches at Cambridge and has written a book on the Power of Being Divisive. He has also looked at whether we can learn why people feel a closer affiliation to vilified causes such as the MAGA movement the more it is criticised?\n \n
BEGIN:VALARM
ACTION:DISPLAY
TRIGGER:-PT60M
DESCRIPTION:Livestream with Thomas Roulet, GE 09
END:VALARM
END:VEVENT
END:VCALENDAR