BEGIN:VCALENDAR
VERSION:2.0
X-WR-TIMEZONE:Europe/Paris
PRODID:-//Audencia//NONSGML v1.0//EN
CALSCALE:GREGORIAN
BEGIN:VEVENT
SUMMARY:Speed networking in Mapou, Mauritius
DTSTART:20221013T183000
DTEND:20221013T203000
UID:1392
DTSTAMP:20260425T210150
LOCATION:Domaine de Labourdonnais Quartier des Serres - La Terrasse Mapou Rivière du Rempart Île Maurice
DESCRIPTION:Introduce yourself / your company in a 1-minute pitch and meet other professionals in Mauritius to expand your network\n\n? Thursday 13 October\n⏰ 6.30-8.30pm\n?Quartier des Serres, Domaine de Labourdonnais, Mapou, Mauritius\n \nFor full details and to register\nfollow this link\n\n
BEGIN:VALARM
ACTION:DISPLAY
TRIGGER:-PT60M
DESCRIPTION:Speed networking in Mapou, Mauritius
END:VALARM
END:VEVENT
END:VCALENDAR