BEGIN:VCALENDAR
VERSION:2.0
X-WR-TIMEZONE:Europe/Paris
PRODID:-//Audencia//NONSGML v1.0//EN
CALSCALE:GREGORIAN
BEGIN:VEVENT
SUMMARY:Club Activités Culturelles - Visite guidée - Bibliothèque nationale de France | site Richelieu
DTSTART:20230204T113000
DTEND:20230204T130000
UID:1391
DTSTAMP:20260425T210005
LOCATION:Bibliothèque nationale de France | site Richelieu 5 Rue Vivienne 75002 PARIS
DESCRIPTION:\nLe Club Activités Culturelles organise une visite guidée "Bibliothèque nationale de France | site Richelieu​" le samedi 4 février à 11h30.\n \nAprès 12 ans de restauration le site Richelieu ouvrira ses portes et accueillera un grand musée. Salles de lectures, collections royales, musée médiéval et Renaissance...Fresques restaurées et expositions temporaires. Ce lieu constituera un immense quadrilatère de la culture en plein cœur de Paris. On pourra découvrir selon un ordre chronologique la salle des colonnes où seront présentées la collection d'antiquité réunie par les rois et acquis jusqu'à la Révolution. Suivra la galerie Mazarin qui conserve encore le magnifique plafond de Romanelli de 1648. Elle accueillera les collections médiévales, comme l'échiquier de Charlemagne ou le trône de Dagobert. Puis dans le cabinet précieux on découvrira les pièces métalliques. On pourra admirer les monnaies, médailles, bijoux et objets d'apparat....\n\n\n\nPlaces limitées, inscriptions obligatoires !\n\n\n\nQuestions : nushad.merchant@audencia.com\n\n 
BEGIN:VALARM
ACTION:DISPLAY
TRIGGER:-PT60M
DESCRIPTION:Club Activités Culturelles - Visite guidée - Bibliothèque nationale de France | site Richelieu
END:VALARM
END:VEVENT
END:VCALENDAR