BEGIN:VCALENDAR
VERSION:2.0
X-WR-TIMEZONE:Europe/Paris
PRODID:-//Audencia//NONSGML v1.0//EN
CALSCALE:GREGORIAN
BEGIN:VEVENT
SUMMARY:Club Activités Culturelles - Visite guidée - Atelier Chana Orloff
DTSTART:20230114T100000
DTEND:20230114T111500
UID:1390
DTSTAMP:20260425T210147
LOCATION:Atelier Chana Orloff  7 bis Vla Seurat 75014 PARIS
DESCRIPTION:\nLe Club Activités Culturelles organise une visite guidée "Atelier Chana Orloff" le samedi 14 janvier à 10h. \n\nL'atelier de Chana Orloff à la villa Seurat où ses petits-enfants ont conservé les œuvres de la grande artiste de l’École de Paris vous sera ouvert exceptionnellement. L'atelier, construit par Auguste Perret en 1926 fut le « travailloir » de Chana, une des figures majeures de la sculpture moderne. Portraits et figures de styles, en bronze, marbre et terre cuite vous attendent. Occasion aussi pour nous de redécouvrir la villa Seurat et les ateliers de Lurçat et Dali et bien d'autres encore...\n \n\n\nPlaces limitées, inscriptions obligatoires !\n \n\n\n\n\nQuestions : nushad.merchant@audencia.com\n\n 
BEGIN:VALARM
ACTION:DISPLAY
TRIGGER:-PT60M
DESCRIPTION:Club Activités Culturelles - Visite guidée - Atelier Chana Orloff
END:VALARM
END:VEVENT
END:VCALENDAR