BEGIN:VCALENDAR
VERSION:2.0
X-WR-TIMEZONE:Europe/Paris
PRODID:-//Audencia//NONSGML v1.0//EN
CALSCALE:GREGORIAN
BEGIN:VEVENT
SUMMARY:Christmas celebration in Tokyo, Japan
DTSTART:20171209T120000
DTEND:20171209T170000
UID:139
DTSTAMP:20260425T210143
LOCATION:Oyako Cafe Hokkuru ‪166-0004 3-37-10, Asagaya Minami, Suginami-ku, Tokyo YSディセンダンツビル, 3F http://suginamimama.com/ Asagaya station (JR Chuo Line)
DESCRIPTION:Hello friends and fellow alumni,\n \nAudencia Alumni invites you to celebrate Christmas in the Oyako Cafe Hokkuru in Asagaya on Saturday 9th December (not on Sunday 17th December as mentioned previously, apologies for the confusion).  Please come with your family and friends. Santa Claus will make a quick appearance.  If possible please let us know how many of you will come so we can prepare the right number of gifts for the children.\n \nFor Audencia alumni, please wear an Audencia T-shirt if you have.\nIf you don’t have an Audencia T-shirt please send us an email with your size, and Audencia Alumni will offer you one. \nThe size are as follows: S, M, L, XL.\n \nDate and time: \nSaturday 9th December from 12pm to 5pm \n \nLocation: \nOyako Cafe Hokkuru\n‪166-0004\n3-37-10, Asagaya Minami, Suginami-ku, Tokyo\nYSディセンダンツビル, 3F\n \nWebsite:\nhttp://suginamimama.com/\n \nStation: \nAsagaya station (JR Chuo Line)\n \nWhat to bring: \nFood and drinks \n \nParticipation fee:\n1,000 yens per adult (to rent the place), free for children\n \nIf you have any question, please feel free to contact us at eventreseaudenciajap@gmail.com.\n \nWishing you a happy end-of-year festivities and hoping to see many of you!\n \nBaptiste Bassot\n080-3725-7512  \n \n------------------\n皆さん\nこんにちは！\n \nこんにちは。一気に寒くなり、秋らしい気候になりました。ご無沙汰している方もそうでない方も、皆様いかがお過ごしでしょうか。\n \nさて、突然のご連絡で恐縮ですが、今年もオーデンシアOB会主体でファミリー向けのクリスマス会を開催致します。何回目かの方も、初めての方も、お気軽にご参加下さい。\n \nほっくる阿佐ヶ谷さんですが、平日はおやこカフェとして営業されており、子ども向けのおもちゃ、オムツ替え用スペースがあります。絨毯のため、赤ちゃんも安心して過ごせます。\n \nなお、ドリンクや食事等はつきませんので、持ち寄りにご協力頂ければと思います。冷蔵庫の使用、簡単な温めは可能です。アルコールは残念ながら不可となっています。\n \n詳細は以下の通りです。\n \n日時: 12月9日（土）朝12時から午後5時まで\n（先般にご教示した12月17日（日）ではなく）\n場所:  おやこカフェほっくる\n         ‪166-0004\n         東京都杉並区阿佐ヶ谷南3-37-10\n         YSディセンダンツビル3F\n駅: 阿佐ヶ谷駅（JR中央線）\nウエブサイト: http://suginamimama.com/\n持ち物: 食べ物と飲み物�料金　大人お1人様 1000円（貸切代として）子どもは無料\n \n予約必須ではありませんが、子ども向けのプレゼントを準備する都合と、大まかな人数把握のために一報頂けますと幸いです（お子様の年齢も併せてお知らせ下さい）。ご不明な点はお気軽にお問い合わせ下さい。\n \nオーデンシア卒業生は是非オーデンシアのTシャツをご着用ください。オーデンシアのTシャツをお持ちにならない方は、eventreseaudenciajap@gmail.com 宛にサイズを教えていただければ、オーデンシアOB会がオーデンシアのTシャツを差し上げます。サイズはS、 M、 L、XLになります。\n \n皆さまと楽しいひと時を過ごせるのを、心待ちにしております！\n \n【参加希望・お問い合わせ先】\nmail: eventreseaudenciajap@gmail.com\nTel: 080-3725-7512    \nバソ バティスト\n 
BEGIN:VALARM
ACTION:DISPLAY
TRIGGER:-PT60M
DESCRIPTION:Christmas celebration in Tokyo, Japan
END:VALARM
END:VEVENT
END:VCALENDAR