BEGIN:VCALENDAR
VERSION:2.0
X-WR-TIMEZONE:Europe/Paris
PRODID:-//Audencia//NONSGML v1.0//EN
CALSCALE:GREGORIAN
BEGIN:VEVENT
SUMMARY:Open GAIA -Economie régénérative et impact
DTSTART:20221115T181500
DTEND:20221115T191500
UID:1389
DTSTAMP:20260425T210005
LOCATION:Audencia, Route de la Jonelière, Nantes, France
DESCRIPTION:\n \nEconomie régénérative et impact\n\nRégénérer l’économie suppose d’avoir un impact positif sur la société en n’utilisant, par exemple, pas de nouvelles ressources, en ayant plus d’équité sociale ou en supprimant les déchets. \n\nComment une  entreprise ou organisation peut-elle s’inscrire dans ce mouvement ? Quels sont les principes fondateurs d'une économie régénératrice pour une organisation ?\n\nFabrice Saurin présentera la manière dont les entreprises mettent en place la circularité en économie régénératrice et Maud Sarda montrera comment la dimension sociale peut être est au cœur d’une économie régénératrice.\n \n\n\n	\n		\n			» Fabrice Sorin - Academy Manager - Circulab\n			» Maud Sarda – Co-fondatrice et directrice du Label Emmaus \n			 \n		\n	\n\n\n\n	\n		\n			\n			\n				\n					\n						\n						\n							\n								\n									\n									Je m'inscris à la conférence\n									\n								\n							\n						\n						\n					\n				\n			\n			\n		\n	\n\n\n 
BEGIN:VALARM
ACTION:DISPLAY
TRIGGER:-PT60M
DESCRIPTION:Open GAIA -Economie régénérative et impact
END:VALARM
END:VEVENT
END:VCALENDAR