BEGIN:VCALENDAR
VERSION:2.0
X-WR-TIMEZONE:Europe/Paris
PRODID:-//Audencia//NONSGML v1.0//EN
CALSCALE:GREGORIAN
BEGIN:VEVENT
SUMMARY:Open GAIA - Impact environnemental et finance
DTSTART:20221018T181500
DTEND:20221018T191500
UID:1388
DTSTAMP:20260425T210448
LOCATION:Audencia 8 Route de la Jonelière 44312 Nantes
DESCRIPTION:\n \n\nImpact social : Les enjeux et challenges des entreprises pour agir\n\nLa finance joue un rôle majeur dans la transition écologique et énergétique. Celle, appelée verte, connaît un essor considérable avec un foisement de projets et d’initiatives.\n\nMais qu’est ce que la finance verte ? Quels sont les outils et stratégies d’investissement associés? Comment s’assurer de l’impact réel des investissements, et dépasser l’illusion d’une finance écoresponsable superficielle ?\n\nNoam Leandri et Aicha Ben Dhia  apporteront leurs regards croisés sur ces sujets à fort enjeux.  \n \n\n\n	\n		\n			\n			\n				> Noam Leandri – Secrétaire General à l'Ademe –\n				Auteur de l’ouvrage « Finance Verte » (Edition La Decouverte – 2021)\n				 \n				> Aicha Ben Dhia - Chercheuse et investisseuse – 2050 -\n				Présidente à l'Accélérateur de la Mobilisation Citoyenne\n			\n			\n		\n	\n\n \n\n\n	\n		\n			\n			\n				\n					\n						\n						\n							\n								\n									\n									Je m'inscris à la conférence\n									\n								\n							\n						\n						\n					\n				\n			\n			\n		\n	\n
BEGIN:VALARM
ACTION:DISPLAY
TRIGGER:-PT60M
DESCRIPTION:Open GAIA - Impact environnemental et finance
END:VALARM
END:VEVENT
END:VCALENDAR