BEGIN:VCALENDAR
VERSION:2.0
X-WR-TIMEZONE:Europe/Paris
PRODID:-//Audencia//NONSGML v1.0//EN
CALSCALE:GREGORIAN
BEGIN:VEVENT
SUMMARY:Les rencontres du Développement Durable
DTSTART:20221014T093000
DTEND:20221014T183000
UID:1387
DTSTAMP:20260425T210025
LOCATION:Audencia, Route de la Jonelière, Nantes, France
DESCRIPTION:\n	\n		\n			\n			\n				\n					\n						\n						\n							\n								\n									\n									\n										\n											\n												\n												\n													\n														\n															\n															\n																\n																	\n																		\n																		\n																			\n																				\n																					\n																					\n																						\n																							\n																								Les RDD c'est 8 étapes du 16 septembre au 9 décembre dans différentes villes !\n																							\n																						\n																					\n																					\n																				\n																			\n																		\n																		\n																	\n																\n															\n															\n														\n													\n												\n												\n											\n										\n									\n									\n								\n							\n						\n						\n					\n				\n			\n			 \n\n			\n				\n					\n						\n						\n							\n								\n									Participez aux #RDD2022 : le plus grand rendez-vous démocratique consacré à la transition et l'anniversaire officiel des Objectifs de Développement Durable en France !\n									\n									Pour la 3e année consécutive, l’Institut Open Diplomacy organise les Rencontres du Développement Durable avec un collectif de partenaires dont Audencia fait partie pour permettre à chacune et chacun de s’emparer des enjeux écologiques. ?\n									 \n								\n							\n						\n						\n					\n				\n			\n			 \n\n			\n				\n					\n						Cette année, Audencia a le plaisir d'accueillir cet évènement le 14 octobre de 9h30 à 18h30. Les échanges auront pour thématique "Digitaliser & Transiter"\n						\n						Au programme : des tables-rondes, des Grands Entretiens, un débat...\n					\n				\n			\n			 \n\n			\n				\n					\n						\n						\n							\n								\n									\n									\n										\n											\n												\n												\n													\n														\n															\n															\n																\n																	\n																		 \n																	\n																\n															\n															\n															\n															\n																\n																	\n																		\n																		\n																			\n																				\n																					\n																					\n																						\n																							\n																								JE M'INSCRIS !\n																							\n																						\n																					\n																					\n																				\n																			\n																		\n																		\n																	\n																\n															\n															\n															\n															\n																\n																	\n																		 \n																	\n																\n															\n															\n														\n													\n												\n												\n											\n										\n									\n									\n								\n							\n						\n						\n					\n				\n			\n			 \n\n			\n				\n					\n						Avec :\n						\n							Pr. Christophe GERMAIN, Directeur général d’Audencia\n							Pr. Florence TOUZE, Professeure à Audencia, Titulaire de la Chaire Impact Positif, Marketing et Communication responsable\n							Dr. José MAILLET, Professeur associé à Audencia\n							Guillaume GAROT, ancien Ministre, Député de la Mayenne\n							Jean-Claude MAILLY, Vice-président de Synopia, ancien Secrétaire général de Force Ouvrière\n							Laurence MEDIONI, Directrice RSE et Transformation d’Ubitransport, Membre du C3D\n							Paula FORTEZA, Experte-associée à la Fondation Jean-Jaurès\n							Frédérick MARCHAND, Président et co-fondateur Digital4Better et Auteur « 40 mots pour un numérique responsable »\n							Nicolas VANBREMEERSCH, Président de Renaissance Numérique\n							Sylvianne VILLAUDIERE, Vice-présidente chez Société d'Encouragement pour l'Industrie Nationale et Co-fondatrice du Cercle de l’Expertise à Mission\n							Bertrand BAILLY, PDG Davidson Consulting et Membre de la Convention des Entreprises pour le Climat\n						\n						et bien plus encore...\n					\n				\n			\n			 \n\n			\n				\n					\n						Découvrez le programme complet et inscrivez-vous sur le site des Rencontres du Développement Durable ? www.les-rdd.fr\n					\n				\n			\n			 \n\n			\n				\n					\n						\n						\n							\n								\n									\n									\n										\n											\n												\n												\n													\n														\n															\n															\n																\n																	\n																		 \n																	\n																\n															\n															\n															\n															\n																\n																	\n																		\n																		\n																			\n																				\n																					\n																					\n																						\n																							\n																								JE M'INSCRIS !\n																							\n																						\n																					\n																					\n																				\n																			\n																		\n																		\n																	\n																\n															\n															\n															\n															\n																\n																	\n																		 \n																	\n																\n															\n															\n														\n													\n												\n												\n											\n										\n									\n									\n								\n							\n						\n						\n					\n				\n			\n			 \n\n			\n				\n					\n						Si vous avez des questions, nous vous invitons à nous contacter via l'email suivant : events@audencia.com.   \n					\n				\n			\n			\n		\n	\n
BEGIN:VALARM
ACTION:DISPLAY
TRIGGER:-PT60M
DESCRIPTION:Les rencontres du Développement Durable
END:VALARM
END:VEVENT
END:VCALENDAR