BEGIN:VCALENDAR
VERSION:2.0
X-WR-TIMEZONE:Europe/Paris
PRODID:-//Audencia//NONSGML v1.0//EN
CALSCALE:GREGORIAN
BEGIN:VEVENT
SUMMARY:Networking in Ho Chi Minh City, Vietnam
DTSTART:20221114T190000
DTEND:20221114T210000
UID:1386
DTSTAMP:20260425T210053
LOCATION:CFVG 91 Đ. 3/2, Phường 11, Quận 10 Thành phố Hồ Chí Minh Vietnam
DESCRIPTION:#MBA_Community\n\nCalling Audencia Alumni in Vietnam: Audencia's Executive MBAs (class of 2023) are heading for Vietnam and Ho Chi Minh City for a learning trip. Join them for a meet and greet networking session on their first day:\n\nDate: Monday 14 November\nTime: from 19:00 to 21:00\nVenue: CFVG, 91 Đ. 3/2, Phường 11, Quận 10, Thành phố Hồ Chí Minh, Vietnam\n \n
BEGIN:VALARM
ACTION:DISPLAY
TRIGGER:-PT60M
DESCRIPTION:Networking in Ho Chi Minh City, Vietnam
END:VALARM
END:VEVENT
END:VCALENDAR