BEGIN:VCALENDAR
VERSION:2.0
X-WR-TIMEZONE:Europe/Paris
PRODID:-//Audencia//NONSGML v1.0//EN
CALSCALE:GREGORIAN
BEGIN:VEVENT
SUMMARY:Webinar : Working in Luxembourg with Ferrero & Moovijob
DTSTART:20221005T183000
DTEND:20221005T200000
UID:1385
DTSTAMP:20260425T210003
LOCATION:
DESCRIPTION:\nAs a part of the Go International week, Audencia's Career Center is happy to invite its students and alumni to participate in the "Webinar : Working in Luxembourg" with testimonials from Ferrero & Moovijob:\n\n- Wednesday 5 October\n- 6:30pm to 8:00pm\n- via Teams\n\n \n\n \n\nThe Teams link will be share to those who register.
BEGIN:VALARM
ACTION:DISPLAY
TRIGGER:-PT60M
DESCRIPTION:Webinar : Working in Luxembourg with Ferrero & Moovijob
END:VALARM
END:VEVENT
END:VCALENDAR