BEGIN:VCALENDAR
VERSION:2.0
X-WR-TIMEZONE:Europe/Paris
PRODID:-//Audencia//NONSGML v1.0//EN
CALSCALE:GREGORIAN
BEGIN:VEVENT
SUMMARY:CCI France Chine Webinar: [Club Agro-alimentaire] Le marché chinois de l'agro-alimentaire : des opportunités qui restent fortes, un accès qui se complique
DTSTART:20221025T100000
DTEND:20221025T113000
UID:1384
DTSTAMP:20260425T210145
LOCATION:Les locaux de la CCI FRANCE CHINE, Pékin, Shanghai et Canton ainsi qu'en webinaire
DESCRIPTION:Agenda\n \n\n\n	\n		\n			• Point d'actualité sur la relation bilatérale - sujets agro-alimentaires\n			• État des lieux du secteur agro-alimentaire et de nos exportations en Chine et à Hong Kong\n			• Les points de vigilance de nature juridique\n			• A la recherche du juste prix dans la coopération agricole France-Chine\n			• Présentation du projet de coopération Food entre le consulat général de France et la ville de Canton\n			 \n		\n		\n			 \n			 \n		\n		\n			Cette conférence sera tenue en présentiel dans les locaux de la CCI FRANCE CHINE, Pékin, Shanghai et Canton ainsi qu'en webinaire. La participation en présentiel restera soumise à validation, en accord avec les règles sanitaires en vigueur dans les villes concernées.\n			 \n		\n		\n			 \n			 \n		\n		\n			Les informations de connexion vous seront communiquées par email après inscription avec le QR code. Nous vous proposons également de partager vos questions sur le formulaire d'inscription.  \n			 \n		\n	\n\n \n\nIntervenants \n \n\n\n	\n		\n			François Blanc\n			Conseiller agricole\n			Ambassade de France\n			 \n		\n		\n			 \n			 \n		\n		\n			Bertrand Quevremont\n			Agrotech Team Manager\n			BUSINESSFRANCE  \n			 \n		\n		\n			 \n			 \n		\n		\n			Alban Renaud\n			Lawyer Partner\n			Adaltys lawfirm\n			 \n		\n		\n			 \n			 \n		\n		\n			Jo Cadilhon\n			Conseiller agricole\n			Ambassade de France\n			 \n		\n		\n			 \n			 \n		\n		\n			Sylvain Fourrière\n			Consul général de France à Canton\n			 \n		\n	\n\n \n\nCoordinateur\n \n\n\n	\n		\n			Alban Renaud\n			Lawyer Partner\n			Adaltys lawfirm\n			 \n		\n	\n\n\nInformation\n \n\nDate : Mardi 25 Octobre\n\nHoraire : 16h00 - 17h30 en Chine / 10h00 - 11h30 en France\n\nFormat : Présentiel + Webinar (Les informations de connexion seront communiquées par email après inscription)\n\nFrais : Membre Audencia Alumni & CCI FRANCE CHINE: Free\n\nLangue : Francais\n\nInscription : Scannez the code QR ou cliquez ici\n\n
BEGIN:VALARM
ACTION:DISPLAY
TRIGGER:-PT60M
DESCRIPTION:CCI France Chine Webinar: [Club Agro-alimentaire] Le marché chinois de l'agro-alimentaire : des opportunités qui restent fortes, un accès qui se complique
END:VALARM
END:VEVENT
END:VCALENDAR