BEGIN:VCALENDAR
VERSION:2.0
X-WR-TIMEZONE:Europe/Paris
PRODID:-//Audencia//NONSGML v1.0//EN
CALSCALE:GREGORIAN
BEGIN:VEVENT
SUMMARY:Afterwork in Abuja, Nigeria
DTSTART:20220928T190000
DTEND:20220928T203000
UID:1383
DTSTAMP:20260425T210031
LOCATION:BluCabana Restaurant & Cafe 1322 Shehu Yar'adua Way Mabushi 900108 Abuja Nigeria
DESCRIPTION:Audencia colleague Adrien Bernard is coming to Nigeria!\n\nFor his first stop in the city of Abuja, come and join him at 7pm on Wednesday 28 September at the BluCabana Restaurant & Cafe, 1322 Shehu Yar'adua Way, Mabushi 900108, Abujaon.\n\nThis will be a great opportunity to catch up on the latest news from Audencia.\n \n
BEGIN:VALARM
ACTION:DISPLAY
TRIGGER:-PT60M
DESCRIPTION:Afterwork in Abuja, Nigeria
END:VALARM
END:VEVENT
END:VCALENDAR