BEGIN:VCALENDAR
VERSION:2.0
X-WR-TIMEZONE:Europe/Paris
PRODID:-//Audencia//NONSGML v1.0//EN
CALSCALE:GREGORIAN
BEGIN:VEVENT
SUMMARY:Afterwork in Lagos, Nigeria
DTSTART:20220930T190000
DTEND:20220930T203000
UID:1381
DTSTAMP:20260425T210539
LOCATION:Kaly Restaurant & Bar Lounge 7th Floor 1235B Akin Adesola off Ahmadu Bello way NumberOne Lagos Eti-Osa 106104 Victoria Island Nigeria
DESCRIPTION:Audencia colleague Adrien Bernard is coming to Lagos!\n\nCome and join him at the Kaly Restaurant & Bar Lounge, 7th Floor, 1235B Akin Adesola off Ahmadu Bello way NumberOne Lagos, Eti-Osa 106104, Victoria Island, on Friday 30 September at 7pm.\n\nThis will be a great opportunity to connect with the tiny (but perfect) alumni community in your city and catch up on the latest news from Audencia.\n
BEGIN:VALARM
ACTION:DISPLAY
TRIGGER:-PT60M
DESCRIPTION:Afterwork in Lagos, Nigeria
END:VALARM
END:VEVENT
END:VCALENDAR