BEGIN:VCALENDAR
VERSION:2.0
X-WR-TIMEZONE:Europe/Paris
PRODID:-//Audencia//NONSGML v1.0//EN
CALSCALE:GREGORIAN
BEGIN:VEVENT
SUMMARY:Afterwork in Accra, Ghana
DTSTART:20221002T190000
DTEND:20221002T203000
UID:1380
DTSTAMP:20260425T210043
LOCATION:Sandbox Beach Club 4th Otswe Street South Accra Ghana
DESCRIPTION:Audencia colleague Adrien Bernard is coming to Accra!\n\nCome and join him on Sunday 2 October at the Sandbox Beach Club, 4th Otswe Street South, Accra at 7pm.\n\nThis will be a great opportunity to connect with the tiny (but perfect) alumni community in your city and catch up on the latest news from Audencia.\n
BEGIN:VALARM
ACTION:DISPLAY
TRIGGER:-PT60M
DESCRIPTION:Afterwork in Accra, Ghana
END:VALARM
END:VEVENT
END:VCALENDAR