BEGIN:VCALENDAR
VERSION:2.0
X-WR-TIMEZONE:Europe/Paris
PRODID:-//Audencia//NONSGML v1.0//EN
CALSCALE:GREGORIAN
BEGIN:VEVENT
SUMMARY:Afterwork in Rio de Janeiro, Brazil
DTSTART:20171206T190000
DTEND:20171206T203000
UID:138
DTSTAMP:20260425T205956
LOCATION:Astor Bar Av. Vieira Souto, 110 - Ipanema Rio de Janeiro RJ 22420-002
DESCRIPTION:Audencia Professor, Valérie Claude-Gaudillat, is on a visiting assignment to COPPEAD and would be delighted to meet with alumni and students during her stay.\n\nJoin her for afterwork refreshments at 7pm on Wednesday 6th December at:\n \nThe Astor Bar\nAv. Vieira Souto, 110\nIpanema, Rio de Janeiro\nRJ, 22420-002
BEGIN:VALARM
ACTION:DISPLAY
TRIGGER:-PT60M
DESCRIPTION:Afterwork in Rio de Janeiro, Brazil
END:VALARM
END:VEVENT
END:VCALENDAR