BEGIN:VCALENDAR
VERSION:2.0
X-WR-TIMEZONE:Europe/Paris
PRODID:-//Audencia//NONSGML v1.0//EN
CALSCALE:GREGORIAN
BEGIN:VEVENT
SUMMARY:Afterwork in Nairobi, Kenya
DTSTART:20221005T190000
DTEND:20221005T203000
UID:1379
DTSTAMP:20260425T210027
LOCATION:Brew Bistro Fortis Woodvale Groove Westlands Fortis Tower Kenya
DESCRIPTION:Audencia colleague Adrien Bernard is coming to Nairobi!\n\nCome and join him at the Brew Bistro Fortis, Woodvale Groove, Westlands Fortis Tower on Wednesday 5 October at 7pm.\n\nThis will be a great opportunity to connect with the tiny (but perfect) alumni community in your city and catch up on the latest news from Audencia.\n\n\n 
BEGIN:VALARM
ACTION:DISPLAY
TRIGGER:-PT60M
DESCRIPTION:Afterwork in Nairobi, Kenya
END:VALARM
END:VEVENT
END:VCALENDAR