BEGIN:VCALENDAR
VERSION:2.0
X-WR-TIMEZONE:Europe/Paris
PRODID:-//Audencia//NONSGML v1.0//EN
CALSCALE:GREGORIAN
BEGIN:VEVENT
SUMMARY:IMPACT JOB FAIR by Change Now
DTSTART:20221015T110000
DTEND:20221015T180000
UID:1378
DTSTAMP:20260425T210211
LOCATION:Le Centquatre, 5 Rue Curial, 75019 Paris
DESCRIPTION:\n \nSalon du recrutement gratuit, dédié aux métiers de l'impact !\n\nL'objectif de cet évènement est de sensibiliser et orienter les talents vers les métiers de l’impact en leur permettant de rencontrer les entreprises engagées pour un monde plus durable qui recrutent. \n\nQuelques chiffres clés :\n\n\n	4000 candidats attendus\n	600+ postes dans tous les métiers et pour tous niveaux d'expérience (offres en ligne sur jobs that makesense)\n	50 entreprises engagées, de tous secteurs d'activité \n	6h de conférences pour s’inspirer et donner les clés d’une carrière réussie dans l’impact \n\n\nInscriptions en ligne en cliquant ici !
BEGIN:VALARM
ACTION:DISPLAY
TRIGGER:-PT60M
DESCRIPTION:IMPACT JOB FAIR by Change Now
END:VALARM
END:VEVENT
END:VCALENDAR