BEGIN:VCALENDAR
VERSION:2.0
X-WR-TIMEZONE:Europe/Paris
PRODID:-//Audencia//NONSGML v1.0//EN
CALSCALE:GREGORIAN
BEGIN:VEVENT
SUMMARY:Afterwork in Brussels, Belgium
DTSTART:20221010T180000
DTEND:20221010T193000
UID:1377
DTSTAMP:20260425T210049
LOCATION:La Cuisine de Flore Rue du Berger 45 1050 Bruxelles
DESCRIPTION:\n\nAnnouncing an alumni afterwork gathering in Brussels!\n\nOn the occasion of the International MBA learning trip to the beautiful city of Brussels, we are delighted to invite alumni there to join them for an apéritif.\n\nDate: Monday 10 October\nTime: 18:00 to 19:30\nVenue: La Cuisine de Flore, Rue du Berger 45, 1050 Brussels\n\nWe are most grateful to alumna Flore Pincemin (GE 04) for opening the doors of her kitchen ("La Cuisine de Flore") for this event.\n \nRegistration here on Together is mandatory!\n \n\n
BEGIN:VALARM
ACTION:DISPLAY
TRIGGER:-PT60M
DESCRIPTION:Afterwork in Brussels, Belgium
END:VALARM
END:VEVENT
END:VCALENDAR