BEGIN:VCALENDAR
VERSION:2.0
X-WR-TIMEZONE:Europe/Paris
PRODID:-//Audencia//NONSGML v1.0//EN
CALSCALE:GREGORIAN
BEGIN:VEVENT
SUMMARY:Club Marketing & Digital : Conférence Numberly (1000mercis group) "Les grandes tendances 2022 du marketing digital"
DTSTART:20221116T190000
DTEND:20221116T220000
UID:1376
DTSTAMP:20260425T210009
LOCATION:Numberly (1000mercis Group) 28 Rue de Châteaudun 75009 Paris
DESCRIPTION:Les grandes tendances 2022 du marketing digital\nConférence Numberly (1000mercis group)\n\n \n\nLe Club Marketing & Digital sera accueilli par la société Numberly (1000mercis group), dans le 9ième arrondisssement le mercredi 16 novembre à partir de 19h.\n Laure Gery (GE 2011), Head of Digital Media, Numberly (1000mercis group) \n Sophie Schanker (GE 2019), Senior Programmatic Media Trader, Numberly (1000mercis group)\npartageront les grandes tendances actuelles du marketing digital observées par un acteur MarTech, ainsi que des exemple et use cases parmi les plus intéressants et innovants du moment : \n\n\n	\n	Cookieless : la fin du cookie est proche, quels enjeux et quelles solutions concrètes ? \n	\n	\n	Cleanroom : quels en sont les avantages ? Les use cases les plus innovants vous seront présentés. \n	\n	\n	Le boom du Retail Media : pourquoi il explose en 2022 ? Des exemples phares récents pour des marques FMCG seront explicités par Laure.  \n	\n	\n	RSE & mesure et réduction de l'impact du marketing digital : où en est la MarTech ? Nous ferons le point sur le champ d'action des marques. \n	\n\n\n\nAu programme :\n\n\n	\n	19h00-19h30 : Accueil\n	\n	\n	19h30-21h00 : Conférence et échanges avec la salle\n	\n	\n	21h00-22h00 : Cocktail dînatoire et networking\n	\n\n\n\n?? Lien pour suivre la conférence en direct : https://meet.google.com/jeo-wqbf-rrc?authuser=0​\n\nVenez nombreux échanger avec nous sur ces thématiques et discuter avec Laure Géry et ses collègues de leur parcours chez Numberly.\n\nBrigitte Neveu-Dérotrie (GE 85)\nAmbassadrice du Club Marketing & Digital\n\n\nA propos :\nLe groupe Numberly (1000mercis group), est présent dans plus de 50 pays. Marketing Technologist, Numberly aide les annonceurs à se différencier par la qualité de la relation avec leurs clients. L’approche people-based permet aux annonceurs d’identifier et de comprendre les besoins de leurs cibles, en combinant les données nominatives et comportementales, afin de dialoguer avec elles de manière plus efficace et de générer du résultat incrémental. \nQuatre pôles complémentaires permettent de répondre aux enjeux des annonceurs : CRM & Data Services, Martech Platforms, Digital Media, Stratégie & Insights.\n\n \n \n\n\n\n\nQuestions ? : nushad.merchant@audencia.com
BEGIN:VALARM
ACTION:DISPLAY
TRIGGER:-PT60M
DESCRIPTION:Club Marketing & Digital : Conférence Numberly (1000mercis group) "Les grandes tendances 2022 du marketing digital"
END:VALARM
END:VEVENT
END:VCALENDAR