BEGIN:VCALENDAR
VERSION:2.0
X-WR-TIMEZONE:Europe/Paris
PRODID:-//Audencia//NONSGML v1.0//EN
CALSCALE:GREGORIAN
BEGIN:VEVENT
SUMMARY:Club Culture & Management - Carrières : Partage d'expériences de carrières culturelles
DTSTART:20221012T190000
DTEND:20221012T220000
UID:1374
DTSTAMP:20260425T210051
LOCATION:Paris
DESCRIPTION:\nFaire carrière dans le secteur culturel peut être un parcours compliqué : comment y entrer, y rester, y retourner ?\n\nGrâce au partage d'expérience des membres du bureau du Club, et aux interventions de Omnia Culture, échangez sur les bonnes pratiques du réseau, de la recherche d'emploi, de la gestion de carrière dans ce monde complexe que peut être celui de l'emploi culturel.\n\nDans un premier temps, nous discuterons par groupes des stratégies pour entrer, revenir, repartir, se reconvertir dans le secteur culturel. Puis nous vous proposons d'échanger sur les spécificités de certains métiers en particulier : consulting, commercial, communication, relation avec les publics...\n\nUne soirée conviviale de networking, pour rebooster la rentrée, dans un lieu à découvrir prochainement !\n\n \n\nRéservez votre place\n\n\n\nAu plaisir de vous retrouver,\nL'équipe du Club Culture & Management\n\n \n\n
BEGIN:VALARM
ACTION:DISPLAY
TRIGGER:-PT60M
DESCRIPTION:Club Culture & Management - Carrières : Partage d'expériences de carrières culturelles
END:VALARM
END:VEVENT
END:VCALENDAR