BEGIN:VCALENDAR
VERSION:2.0
X-WR-TIMEZONE:Europe/Paris
PRODID:-//Audencia//NONSGML v1.0//EN
CALSCALE:GREGORIAN
BEGIN:VEVENT
SUMMARY:Club Luxe - Audace, de la joaillerie à l’œnologie
DTSTART:20221115T193000
DTEND:20221115T220000
UID:1373
DTSTAMP:20260425T210006
LOCATION:Gemmyo 26 rue Berthollet 75005 PARIS
DESCRIPTION: \n\nSoirée réservée\n\n\nLe Club Luxe vous convie à une soirée exclusive, sur le thème de l’Audace, au sein du charmant hôtel particulier Gemmyo, niché au cœur du 5è arrondissement, qui sera privatisé à cette occasion. \n\nPauline Laigneau, la fondatrice emblématique de Gemmyo et de Demian Education, nous ouvrira les portes de sa marque de joaillerie, qui a su réinventer les codes de ce secteur.\n\nLors d’une interview – conférence, Pauline nous parlera de la génèse de Gemmyo, de son ADN, de la manière dont la jeune marque façonne le luxe à son image, mais également comment elle intègre les notions de durable et responsable au sein de son développement.\n\nL’audace en joaillerie, l’audace en œnologie… Ainsi, cette conférence sera suivie d’un cocktail œnologique organisé par Involuté Vins, et orchestré par Sophie Roulé, sur le thème de l’Audace. Pendant ce cocktail, vous aurez le plaisir déguster 5 cuvées, issues de vignerons audacieux, ou encore des propositions d’accords mets-vins audacieux. \n\nDéroulé de la soirée :\n\n•    19h30 : Accueil des participants\n•    19h45 : Introduction par le Club Luxe\n•    19h50 : Interview - conférence de Pauline Laigneau\n•    20h30 : Cocktail œnologique thématique et networking\n•    22h00 : Fin de la soirée\n\n\n\n\nQuestion ? : nushad.merchant@audencia.com
BEGIN:VALARM
ACTION:DISPLAY
TRIGGER:-PT60M
DESCRIPTION:Club Luxe - Audace, de la joaillerie à l’œnologie
END:VALARM
END:VEVENT
END:VCALENDAR