BEGIN:VCALENDAR
VERSION:2.0
X-WR-TIMEZONE:Europe/Paris
PRODID:-//Audencia//NONSGML v1.0//EN
CALSCALE:GREGORIAN
BEGIN:VEVENT
SUMMARY:Club Marketing & Digital - Afterwork Brainstorming
DTSTART:20221018T191500
DTEND:20221018T213000
UID:1372
DTSTAMP:20260425T210032
LOCATION:La Boissonnière Charonne 52 Rue Léon Frot 75011 Paris
DESCRIPTION: \n\nClub Marketing & Digital organise son premier afterwork de l'année le mardi 18 octobre à partir de 19h15 à La Boissonière Charonne dans le 11e arrondissement.\n\nCa sera l'occasion de se retrouver, d'échanger sur les actualités liées au marketing et à la communication et de réfléchir sur les potentielles sujets d'animation et de conférence pour le Club.\n \n\nInscrivez-vous en vous connectant à votre compte Together\n\n\n\nQuestions ? : nushad.merchant@audencia.com
BEGIN:VALARM
ACTION:DISPLAY
TRIGGER:-PT60M
DESCRIPTION:Club Marketing & Digital - Afterwork Brainstorming
END:VALARM
END:VEVENT
END:VCALENDAR