BEGIN:VCALENDAR
VERSION:2.0
X-WR-TIMEZONE:Europe/Paris
PRODID:-//Audencia//NONSGML v1.0//EN
CALSCALE:GREGORIAN
BEGIN:VEVENT
SUMMARY:Ontario, Canada: AAGEF Entrepreneur Challenge 2022
DTSTART:20221130T173000
DTEND:20221130T210000
UID:1371
DTSTAMP:20260425T205955
LOCATION:Glendon Campus York University Toronto ON M4N 3M6 Canada
DESCRIPTION:Save the date!\n\nOn Wednesday 30 November, from 5:30pm, the 8th edition of our annual Entrepreneur Challenge will be held in the prestigious Glendon auditorium and rooftop reception space!\n\nAs usual, three disruptive entrepreneur finalists will pitch their projects in front of a jury and the audience. During the networking phase, you will be able to meet with them, the jury, our moderator and over 150 senior executives from Fortune 500 companies.\n\nOur amazing moderator this year will be:\n\n\n	Edmond Mellina (Centrale), President, Orchango\n\n\nOur esteemed jury will be:\n\n\n	Stephanie Veyrun-manetti (ParisXI), GM, Sanofi\n	Dave Spagnolo (RMCC), President, Systra Canada\n	Joséphine Bouchez (ESCP), Co-founder at TFC\n\n\n \nAgenda :\n\n	5:30-7:30pm: Intros. Pitches. Q&A. Live Votes. Awards\n	7:30-9:00pm: Networking\n\n\nAAGEF is welcomes applications from the most exciting start-ups. For the startup community, it's a perfect platform to be coached and advised by the industry top leaders.\n \nDeadline for applications: Saturday 1 October 2022\nOfficial announcement and winners' ceremony: Wednesday 30 November 2022\n\nYou can also still sponsor the future winners with either cash prizes or any corporate gifts (contact@aagefontario.org)\n\n\n\n \n\nFor more information and to submit your projet\n\n \n\nAll entrepreneurs are invited to apply. Upon submission, all applications will be reviewed by our selection committee. And then, the three finalists will be announced on a date to be announced later.\nThe three selected entrepreneurs will present in front of a jury of investors and top executives. The winners will be awarded cash gifts and prizes besides the invaluable guidance from top executives.\n\n\n\n\n \n\nAAGEF Ontario, with over 2,000 executives, is a networking association of French Elite Graduate Schools alumni, living and working in Ontario. We also welcome Ontario-based alumni of Canadian and global Elite Universities. \nFollow us on LinkedIn.\n
BEGIN:VALARM
ACTION:DISPLAY
TRIGGER:-PT60M
DESCRIPTION:Ontario, Canada: AAGEF Entrepreneur Challenge 2022
END:VALARM
END:VEVENT
END:VCALENDAR