BEGIN:VCALENDAR
VERSION:2.0
X-WR-TIMEZONE:Europe/Paris
PRODID:-//Audencia//NONSGML v1.0//EN
CALSCALE:GREGORIAN
BEGIN:VEVENT
SUMMARY:Networking in Toronto, Canada with AAGEF
DTSTART:20220928T180000
DTEND:20220928T200000
UID:1370
DTSTAMP:20260425T210120
LOCATION:Bumpkins Restaurant 21 Gloucester St Toronto ON M4Y 1L8 Canada
DESCRIPTION:Join us at the AAGEF (Association des Amis des Grandes Ecoles Françaises) event\n\nDate: Wednesday 28 September 2022\nTime: from 6pm\nVenue: Bumpkins Restaurant, 21 Gloucester St, Toronto, ON M4Y 1L8, Canada\n\nImpact investing, social finance, ESG: an overview and how it can apply to your job/life?\n\nNetworking event with a dual presentation from:\n\n	Narinder Dhami, (Rotman/ESSEC, Canada's Top 40 under 40) Managing Director at Marigold Capital\n	Eric In (ESSEC) , Director of Investments at Dragonfly Ventures\n\n\nRegister here\n \n\n\n\n\nAAGEF Ontario, with over 2,000 executives, is a networking association of French Elite Graduate Schools alumni, living and working in Ontario. We also welcome Ontario-based alumni of Canadian and global Elite Universities. Follow us on LinkedIn.\n\n\n\n \n\n \n\n 
BEGIN:VALARM
ACTION:DISPLAY
TRIGGER:-PT60M
DESCRIPTION:Networking in Toronto, Canada with AAGEF
END:VALARM
END:VEVENT
END:VCALENDAR