BEGIN:VCALENDAR
VERSION:2.0
X-WR-TIMEZONE:Europe/Paris
PRODID:-//Audencia//NONSGML v1.0//EN
CALSCALE:GREGORIAN
BEGIN:VEVENT
SUMMARY:Webinar: Monique Valcour on avoiding burnout and building resilience
DTSTART:20180208T193000
DTEND:20180208T204500
UID:137
DTSTAMP:20260425T205838
LOCATION:Online
DESCRIPTION:Relentless stress at work threatens not only our wellbeing and performance but also our health and career. In this webinar Monique Valcour, management professor and author, presents the current research into the causes of burnout, shows how to judge if we are at risk, and proposes a range of strategies we can use to escape stress triggers at work.\n\nThe main cause of burnout for most people is a work environment that has become toxic. This does not mean we are powerless to react. In fact a range of strategies can be effective both to deal with peak stress episodes and ongoing chronic work stress. \n\nWe will explore some of the key approaches that can help, including:\n \n\n	Prioritising self care – to replenish physical and emotional energy.\n	Revisiting your assumptions about work – don’t assume everything about your workload and work environment is fixed. We will look at ways to try and change both.\n	Reducing exposure to job stressors – different ways to avoid being “carried along in the current”.\n	Seeking out connections – possibly from coaches and mentors but also from colleagues who may be suffering from the same situational factors\n\n\nWe will also discuss when you might need to make more radical changes at work and how as managers and teammates we can work to create less toxic environments.\n\n \nREGISTER HERE\nThere are 200 free tickets for member alumni and students here via the registration page\n(use code “AUDstudent” if the free ticket is not shown)\n\n \nAll attendees will receive the meeting slides, a recording and resource pack.\n 
BEGIN:VALARM
ACTION:DISPLAY
TRIGGER:-PT60M
DESCRIPTION:Webinar: Monique Valcour on avoiding burnout and building resilience
END:VALARM
END:VEVENT
END:VCALENDAR