BEGIN:VCALENDAR
VERSION:2.0
X-WR-TIMEZONE:Europe/Paris
PRODID:-//Audencia//NONSGML v1.0//EN
CALSCALE:GREGORIAN
BEGIN:VEVENT
SUMMARY:#MBA_Community: échanges et networking à Nantes
DTSTART:20221017T183000
DTEND:20221017T203000
UID:1369
DTSTAMP:20260425T210027
LOCATION:Audencia - Forum 8 route de la Jonelière 44300 Nantes
DESCRIPTION:Pour ouvrir une semaine riche en rencontres pour la cohorte Executive MBA d'Alger, les participants et alumni des programmes MBA d'Audencia sont invités à se retrouver.\n\nLe lundi 17 octobre\nDe 18h30 à 20h30\nAu Forum d'Audencia Atlantic Campus\n8 route de la Jonelière - 44300 Nantes\n\nLe programme de la soirée se déroulera ainsi:\n\n	18:30-18:45 Accueil par la direction du programme\n	18:45-19:30 Présentation et échanges autour des enjeux nationaux et internationaux en Algérie\n	19:30-20:30 Rafraichissements et networking\n\nInscrivez-vous!\n \n
BEGIN:VALARM
ACTION:DISPLAY
TRIGGER:-PT60M
DESCRIPTION:#MBA_Community: échanges et networking à Nantes
END:VALARM
END:VEVENT
END:VCALENDAR