BEGIN:VCALENDAR
VERSION:2.0
X-WR-TIMEZONE:Europe/Paris
PRODID:-//Audencia//NONSGML v1.0//EN
CALSCALE:GREGORIAN
BEGIN:VEVENT
SUMMARY:Webinar: Steve Dalton on how to talk about your weaknesses
DTSTART:20221110T140000
DTEND:20221110T150000
UID:1367
DTSTAMP:20260425T210045
LOCATION:
DESCRIPTION:DATE: Thursday 10 November 2022\nTIME: 14:00 to 15:00 Paris time\n\nAlthough candidates hate answering, employers keep asking about negatives: What are your weaknesses? Or, tell me about a time when you failed.\n\nAccording to Sensible Media research, you have a 50% chance of facing one of these questions when applying for a role. Employers like to see which candidates can handle these tricky questions and answer candidly. What they don’t want - paradoxically - is for candidates to talk themselves down.\n\nHappily, preparing good - and honest - answers is much easier than you might think. In this webinar, Steve Dalton, author of the 2-Hour Job Search and The Job Closer will explain:\n\n\n	Why employers keep asking these questions\n	What kind of response they are actually looking for\n	Why textbook answers don’t work (note to all the “perfectionists” out there)\n	How to quickly construct authentic answers about both failures and weaknesses\n	How to answer the other most common “gotcha” questions\n	Why these questions matter less than the “soft” questions that kick off most interviews.\n\n\nThe key to answering all these questions is to prepare the right kind of achievement stories before the interview. In this webinar, Steve will explain his CAR (Challenge-Action-Result) formula and show how we can all create good stories AND adapt them to address negative, as well as positive, situations.\n \nBONUS content: all participants receive:\n\n\n	Access to the webinar and the chance to ask questions live\n	Catch-up recording of the webinar\n	A bonus materials resource pack including slides and support materials\n	A copy of Steve's CAR matrix\n	Two bonus webinar recordings covering Tell Me About Yourself and Why questions\n\n\n \n\nREGISTRATION\nWe have 200 free tickets for Audencia's alumni and students\n(use code "AUD-student" if ticket does not show)\n\n \n\n\n\n\nAbout the speaker\nSteve Dalton is the former head of daytime careers at Duke Fuqua School of Business and is the author of The 2-Hour Job Search and The Job Closer published by Ten Speed Press. In 2014 the MBA-CSEA awarded Steve their innovation award for his work. He holds his own MBA from Duke and a chemical engineering degree from Case Western. Steve writes about careers for the Huffington Post and the Financial Times and presents his method at business schools around the world. You can follow Steve's thoughts on job search and its intersection with science and popular culture at www.2hourjobsearch.com and on Twitter (@Dalton_Steve).\n\n\n\n\nAUDENCIA's WEBINAR LIBRARY\nUnlimited access for Audencia students and alumni\nWe are delighted to offer all Audencia students and alumni access to a library of careers webinars featuring world-class management thinkers like Steve Dalton, Dorie Clark and Daniel Porot.\n\nAll Audencia alumni and students now have unlimited access to the portal which includes:\n\n	Advice on, job-hunting and interviewing, international and portfolio careers and how to be a better boss\n	Videos optimised for mobiles and tablets\n	Unlimited – free online access to all Audencia students and alumni\n\n\nRegister for your individual account here\n \n \n\n 
BEGIN:VALARM
ACTION:DISPLAY
TRIGGER:-PT60M
DESCRIPTION:Webinar: Steve Dalton on how to talk about your weaknesses
END:VALARM
END:VEVENT
END:VCALENDAR