BEGIN:VCALENDAR
VERSION:2.0
X-WR-TIMEZONE:Europe/Paris
PRODID:-//Audencia//NONSGML v1.0//EN
CALSCALE:GREGORIAN
BEGIN:VEVENT
SUMMARY:Soirée Ingénieurs-Managers [Paris]
DTSTART:20221130T193000
DTEND:20221130T233000
UID:1366
DTSTAMP:20260425T210206
LOCATION:Digital Village 21, rue Albert Bayet 75013, Paris
DESCRIPTION:\n\n- Soirée réservée aux Ingénieurs-Managers -\n\nChers diplômés ingénieurs-managers,\n \nChristophe Germain, Directeur général d'Audencia, et Nicolas Arnaud, Directeur des programmes, vous donnent rendez-vous à Paris,\n \nmercredi 30 novembre\nà 19h30\n\n\n\nAu programme : \n• Accueil avec coupe de champagne\n• Echanges avec Christophe Germain et Nicolas Arnaud\n• ​La Finance de l'innovation selon Benjamin Le Pendeven, Directeur de la Chaire 'Finance pour l'innovation'\n• ​Cocktail networking\n\nEchanges, actualités, sujets dédiés ingénieurs-managers… Nous vous avons préparé un événement sur-mesure !\n\n \n\n>> Gratuit sur inscription <<\n[en haut à droite en vous connectant sous vos identifiants]\nContact : lcaliez@audencia.com\n\n\n\n 
BEGIN:VALARM
ACTION:DISPLAY
TRIGGER:-PT60M
DESCRIPTION:Soirée Ingénieurs-Managers [Paris]
END:VALARM
END:VEVENT
END:VCALENDAR