BEGIN:VCALENDAR
VERSION:2.0
X-WR-TIMEZONE:Europe/Paris
PRODID:-//Audencia//NONSGML v1.0//EN
CALSCALE:GREGORIAN
BEGIN:VEVENT
SUMMARY:Conférence Isegoria : Jean-Marc Jancovici
DTSTART:20220922T180000
DTEND:20220922T193000
UID:1365
DTSTAMP:20260425T210028
LOCATION:Amphi Edit de Nantes Atlantic Campus
DESCRIPTION:\n	\n		\n			\n			\n				\n					\n						\n						\n						Les étudiants de l'association Isegoria vous invitent à leur conférence de rentrée en présence de Jean-Marc Jancovici, ingénieur, spécialiste dans le domaine de l'énergie et du climat et consultant auprès de divers organismes publics et privés. \n					\n				\n			\n			\n		\n	\n\n \n\n\n	\n		\n			\n			\n				\n					\n						\n						\n							\n								\n									\n									\n										\n											\n												\n												\n													\n														\n															\n														\n													\n												\n												\n											\n										\n									\n									\n									\n									\n										\n											\n												\n												Jean-Marc Jancovici, ancien élève de l’Ecole polytechnique et de Telecom ParisTech, est le président du think tank The Shift Project dont la mission consiste à éclairer et influencer le débat sur la transition énergétique.\n												The Shift Project et Audencia se sont associés dans le cadre du projet « ClimatSup Business, Former les acteurs de l’économie de demain » avec pour ambition de mettre la transition écologique au cœur de toutes les formations.\n												\n												Jean-Marc Jancovici est co-fondateur et associé de Carbone 4, société créée en 2007 qui fournit conseils et données au monde économique pour se confronter au défi énergie climat. Il est également professeur à Mines Paris Tech depuis 2009, et membre depuis 2018 du Haut Conseil pour le Climat, créé auprès du Premier Ministre.\n												\n												Il est l'auteur de 7 livres dont Le Monde sans fin - bande dessinée co-écrite avec Christophe Blain (2021) - ainsi que d’un site internet (jancovici.com) et de nombreux articles visant à vulgariser les questions relatives à l’énergie et au changement climatique.\n												 \n												Connu pour son travail de sensibilisation, Jean-Marc Jancovici nous partagera ses engagements et sa vision des enjeux de demain.\n											\n										\n									\n									\n								\n							\n						\n						\n					\n				\n			\n			\n		\n	\n\n \n\n\n	\n		\n			\n			\n				\n					\n						\n						\n							\n								\n									\n									\n										\n											\n												\n												\n													\n														\n															Évènement gratuit \n															Contact : events@audencia.com\n														\n													\n												\n												\n												\n												\n													\n														\n															\n															\n																\n																	\n																		\n																		\n																			\n																				\n																					\n																					\n																						\n																							\n																								\n																								S'INSCRIRE\n																								\n																							\n																						\n																					\n\n																					 \n																					\n																				\n																			\n																		\n																		\n																	\n																\n															\n															\n														\n													\n												\n												\n											\n										\n									\n									\n								\n							\n						\n						\n					\n				\n			\n			\n		\n	\n\n \n\n\n	\n		\n			Vous êtes tous cordialement invités à assister à cette conférence-débat, \n			n’hésitez pas à en faire profiter votre entourage !\n		\n	\n
BEGIN:VALARM
ACTION:DISPLAY
TRIGGER:-PT60M
DESCRIPTION:Conférence Isegoria : Jean-Marc Jancovici
END:VALARM
END:VEVENT
END:VCALENDAR