BEGIN:VCALENDAR
VERSION:2.0
X-WR-TIMEZONE:Europe/Paris
PRODID:-//Audencia//NONSGML v1.0//EN
CALSCALE:GREGORIAN
BEGIN:VEVENT
SUMMARY:Assemblée Générale de l'association Audencia Alumni
DTSTART:20221011T180000
DTEND:20221011T200000
UID:1364
DTSTAMP:20260425T210049
LOCATION:
DESCRIPTION:Chère diplômée Audencia, Cher diplômé Audencia,\n \nL'Association Audencia Alumni a le plaisir de vous convier à son assemblée générale annuelle qui aura lieu le mardi 11 octobre, à 18h00 en ligne.\n\n>> Pour accéder à l’AG le jour J : Cliquez ici pour participer à la réunion <<  \n\nL’ordre du jour sera le suivant :\n\n	Plan stratégique ECOS 2025 : faits marquants\n	Présentation du rapport moral de 2021\n	Présentation du rapport financier de 2021\n	Information sur le Protocole de fonctionnement de l’Association\n	Candidatures au Conseil d’administration\n	Questions diverses\n\n\nLe vote se fera uniquement en ligne par la plateforme Euro-vote : solution hébergée en France, accessible sur tous les supports et respectant les réglementations en Data Privacy. Votre adresse électronique a été déposée chez un huissier de justice qui en garantit sa non-divulgation et sa non-utilisation à d’autres fins que celles utiles à l’organisation des élections.\n \n\nAfin de voter, connectez-vous à la plateforme, et identifiez-vous avec l'adresse mail à laquelle vous avez reçu les informations de vote.\n\n \n\nAu plaisir de vous retrouver en ligne lors de notre assemblée générale !\n\nSi vous souhaitez de plus amples informations, vous pouvez prendre contact avec nous via audenciaalumni@audencia.com.\n\nFlavie LORRE (GE 98)\nPrésidente de l'association Audencia Alumni
BEGIN:VALARM
ACTION:DISPLAY
TRIGGER:-PT60M
DESCRIPTION:Assemblée Générale de l'association Audencia Alumni
END:VALARM
END:VEVENT
END:VCALENDAR