BEGIN:VCALENDAR
VERSION:2.0
X-WR-TIMEZONE:Europe/Paris
PRODID:-//Audencia//NONSGML v1.0//EN
CALSCALE:GREGORIAN
BEGIN:VEVENT
SUMMARY:Afterwork SciencesCom à Nantes
DTSTART:20221019T183000
DTEND:20221019T223000
UID:1363
DTSTAMP:20260425T211242
LOCATION:Les Funambules, 83 boulevard de la Prairie au Duc, 44200 Nantes
DESCRIPTION:? AFTERWORK SCIENCESCOM A NANTES ?\n\nRendez-vous le mercredi 19 octobre de 18h30 à 22h30 \n\npour partager une soirée en ces premiers jours d'automne.\n \n\n\n \n\n...Lieu à venir !\n\nHâte de vous rencontrer ou retrouver !
BEGIN:VALARM
ACTION:DISPLAY
TRIGGER:-PT60M
DESCRIPTION:Afterwork SciencesCom à Nantes
END:VALARM
END:VEVENT
END:VCALENDAR