BEGIN:VCALENDAR
VERSION:2.0
X-WR-TIMEZONE:Europe/Paris
PRODID:-//Audencia//NONSGML v1.0//EN
CALSCALE:GREGORIAN
BEGIN:VEVENT
SUMMARY:2022 EFMD Global Fairs powered by Highered
DTSTART:20221018T100000
DTEND:20221020T170000
UID:1362
DTSTAMP:20260425T210407
LOCATION:
DESCRIPTION:\n\n\nWe are happy to announce that Audencia will participate in the 2022 EFMD Global Fairs powered by Highered. The Global Fairs is hosted in a virtual environment that allows you to have real-time interaction, including one-to-one live chat and video chat with recruiters from leading companies and organizations such as AXA Investment Managers, ABInBev, BBA Bank, Equinor and many others.\n\nThe 2022 EFMD Global Fairs is open to both students and alumni and will take place over the course of three days, from October 18-20th. The 3-day event will feature multiple sector and geographic-specific fairs, all on a single platform.\n\nWhy should you attend?\n\n\nThe event will bring together global and local companies/organizations from multiple sectors looking to hire the right candidates. This is an excellent opportunity to introduce yourself to potential employers, meet with the recruiters and start applying to the available career opportunities.\n\nHere’s what you can expect:\n\n\n	\n	Visit the virtual booth of the companies/organizations\n	\n	\n	Live chat and interview with recruiters\n	\n	\n	Attend keynotes held by industry experts\n	\n\n\nEach day you can join career experts in the live and interactive CV Clinics, where you’ll also get the opportunity to have your CV reviewed and receive valuable feedback.\n\nHow to register?\n\n \n\n\n	​Log in to our GetHighered platform: https://audencia.gethighered.global . If you do not have an account, sign up and create an account using your @audencia.com email address\n	Click on “Virtual Events” on the top menu, and register for the 2022 EFMD Global Fairs Powered by Highered.  Fill out your profile to complete the registration.\n\n\nHow to prepare?\n\n \n\n\n	Read Highered’s 7 tips on how to best prepare for the 2022 EFMD Global Fairs by Highered.\n	Upload your CV on the GetHighered platform under “My Page” \n\n\n\nFollow Highered on social media to get real-time updates about the event:\n\nInstagram: @gethighered\n\nLinkedIn: https://www.linkedin.com/company/highered-global
BEGIN:VALARM
ACTION:DISPLAY
TRIGGER:-PT60M
DESCRIPTION:2022 EFMD Global Fairs powered by Highered
END:VALARM
END:VEVENT
END:VCALENDAR