BEGIN:VCALENDAR
VERSION:2.0
X-WR-TIMEZONE:Europe/Paris
PRODID:-//Audencia//NONSGML v1.0//EN
CALSCALE:GREGORIAN
BEGIN:VEVENT
SUMMARY:CCI France Chine Webinar avec M. l'Ambassadeur : Point sur la situation économique, les relations bilatérales et la situation sanitaire
DTSTART:20220922T100000
DTEND:20220922T110000
UID:1361
DTSTAMP:20260425T210448
LOCATION:
DESCRIPTION:                                    \n\n\nChers Membres,\n\nLa CCI FRANCE CHINE et l'Ambassade de France en Chine vous proposent un nouveau point sur l'actualité politique et économique, le Jeudi 22 Septembre à 16h00 (Heure de Chine GMT+8).\n\nM. Laurent BILI, Ambassadeur de France en Chine, M. Jean-Marc FENET, Ministre Conseiller pour les Affaires Economiques à l'Ambassade de France en Chine feront un point sur la situation économique, les relations bilatérales, la situation sanitaire et répondront aux questions des entreprises françaises implantées en Chine.\n\nPour participer et poser vos questions, merci de remplir le formulaire d'inscription.\n\n\nCette conférence vous est proposée exclusivement en webinar.\n\nLes informations de connexion seront communiquées par email, après inscription, quelques jours avant l'événement.\n\n \n\nDate : Jeudi 22 Septembre 2022\n\nHoraire : (heure de Chine GMT+8) 16h00 : Début du webinaire\n\nLangue : Français\n\nFrais : Gratuit\n\nParticipation : ouvert à tous\n\nLieu : WEBINAIRE (Cet évènement sera disponible en replay)\n
BEGIN:VALARM
ACTION:DISPLAY
TRIGGER:-PT60M
DESCRIPTION:CCI France Chine Webinar avec M. l'Ambassadeur : Point sur la situation économique, les relations bilatérales et la situation sanitaire
END:VALARM
END:VEVENT
END:VCALENDAR