BEGIN:VCALENDAR
VERSION:2.0
X-WR-TIMEZONE:Europe/Paris
PRODID:-//Audencia//NONSGML v1.0//EN
CALSCALE:GREGORIAN
BEGIN:VEVENT
SUMMARY:Webinar: Dorie Clark on reinventing your career
DTSTART:20171207T193000
DTEND:20171207T204500
UID:136
DTSTAMP:20260425T223737
LOCATION:Online
DESCRIPTION: \nChanging career is difficult.  As we develop our skills and build a reputation in one job it seems harder and harder to let go of what we have and take on something new. \n \nIn fact, successful career changes don’t abandon either their skills or their personal brand: they find a way to translate and re-invent them. In this webinar Dorie Clark will show how you can leverage your skills in a new role and re-invent yourself professionally.\n \n\nLeveraging your skills\nAs we amass experience and expertise at work there is a natural tendency to specialise: we become better and better at doing our particular job but, if we are not careful, less suited to anything else.  Nobody wants to “start from scratch”.  But change may come whether we like it or not.  In this webinar Dorie Clark explores:\n \n\n	How we can leverage our current skills in a new environment\n	Different ways of researching a new career path\n	How test-drive a new career via “strategic moonlighting”\n	How to get help and make contacts in a new sector.\n\n \n\nReinvent yourself\nThe parallel problem of career change is persuading other people, especially the people you know, that you have changed course.  Often those close to us resist: they like us as we are.  Choosing the right time to “go public” and crafting a story that makes sense are critical.  In the webinar we will discuss:\n \n\n	When to talk about a new career\n	How to bring your credibility and reputation with you\n	How to use social media and content to raise your profile in a new field.\n\n \n\nHomework and pre-reading\n\nThere is some self-assessment homework associated with this webinar.  You will get the most out of it if you are able to spend 2-4 hours before the event completing some of the assigned exercises.\n \n \n\nREGISTER HERE\nThere are 200 free tickets for member alumni and students here via the registration page\n(use code “AUDstudent” if the free ticket is not shown)\n\n\nAll attendees will receive the meeting slides, a recording and resource pack.
BEGIN:VALARM
ACTION:DISPLAY
TRIGGER:-PT60M
DESCRIPTION:Webinar: Dorie Clark on reinventing your career
END:VALARM
END:VEVENT
END:VCALENDAR