BEGIN:VCALENDAR
VERSION:2.0
X-WR-TIMEZONE:Europe/Paris
PRODID:-//Audencia//NONSGML v1.0//EN
CALSCALE:GREGORIAN
BEGIN:VEVENT
SUMMARY:Afterwork in London, UK
DTSTART:20221011T190000
DTEND:20221011T203000
UID:1359
DTSTAMP:20260425T210207
LOCATION:The Racketeer 105 King's Cross Rd London WC1X 9LR
DESCRIPTION:I'm delighted to be coming to London and would be pleased to meet up with alumni and students for an informal gathering, catch-up conversation and a round of drinks.\n\nCome and join me:\n\n	Date: Tuesday 11 October\n	Time: 19:00 to 20:30\n	Venue: The Racketeer, 105 King's Cross Rd, London WC1X 9LR, United Kingdom\n\n\n\n
BEGIN:VALARM
ACTION:DISPLAY
TRIGGER:-PT60M
DESCRIPTION:Afterwork in London, UK
END:VALARM
END:VEVENT
END:VCALENDAR