BEGIN:VCALENDAR
VERSION:2.0
X-WR-TIMEZONE:Europe/Paris
PRODID:-//Audencia//NONSGML v1.0//EN
CALSCALE:GREGORIAN
BEGIN:VEVENT
SUMMARY:Afterwork in Luxembourg
DTSTART:20221005T190000
DTEND:20221005T203000
UID:1358
DTSTAMP:20260425T210121
LOCATION:Luxembourg
DESCRIPTION:C'est la rentrée!\n\nCome and join alumni in Luxembourg for an informal "back to school" drink on \n\nDate: Wednesday 5 October\nTime: 19:00 to 20:30\nVenue: to be confirmed asap!\n\nRegister on this page to get the latest updates about the gathering and join the LinkedIn page for news about the LUxembourg chapter!\n \n
BEGIN:VALARM
ACTION:DISPLAY
TRIGGER:-PT60M
DESCRIPTION:Afterwork in Luxembourg
END:VALARM
END:VEVENT
END:VCALENDAR