BEGIN:VCALENDAR
VERSION:2.0
X-WR-TIMEZONE:Europe/Paris
PRODID:-//Audencia//NONSGML v1.0//EN
CALSCALE:GREGORIAN
BEGIN:VEVENT
SUMMARY:Audencia Alumni X France Alumni: How to communicate effectively at work? / 职场中如何进行高效沟通？
DTSTART:20220927T133000
DTEND:20220927T150000
UID:1357
DTSTAMP:20260425T210205
LOCATION:
DESCRIPTION:\n\n\n\nAbout the Webinar\n\nCommunication is one of the most important skills in professional life. We will have more chances of success if we know how to communicate effectively. But in reality, few of us are aware of the method of effective communication.\n\nRemember, excellent communication skill is rarely a natural gift, but we can get it through training.\n\nIn this webinar, Caroline Dussueil will analyse verbal and non-verbal communication, which is not limited to talking and listening, summarise the 4 different types of communication, help you to recognise the communication and behavioural patterns of colleagues and managers, provide you with tools and tips to optimise the interaction with them. \n \nAbout our Speaker\n\nCaroline Dussueil (GE 2002) is an international certified coach and trainer, she has 15 years in Supply Chain Management and has expatriated for 8 years in 3 countries. She is currently a Board member of a Dubai Company and an Advisory member in Suzhou, China. She also created her own executive coaching brand, SPARKLE, assisting entrepreneurs and executive members to enhance their leadership, bravery, time management, conflict management, etc.\n\nInformation\nDate: Tuesday, 27 September\nTime: 19:30 - 21:00 in China / 13:30 - 15:00 in France\nLanguage: English\nPlatform: Zoom (Meeting ID: 894 4785 9511, Code: 951521)\nRegistration: scan the QR code in the poster above or click on the "Register" button directly on this page
BEGIN:VALARM
ACTION:DISPLAY
TRIGGER:-PT60M
DESCRIPTION:Audencia Alumni X France Alumni: How to communicate effectively at work? / 职场中如何进行高效沟通？
END:VALARM
END:VEVENT
END:VCALENDAR