BEGIN:VCALENDAR
VERSION:2.0
X-WR-TIMEZONE:Europe/Paris
PRODID:-//Audencia//NONSGML v1.0//EN
CALSCALE:GREGORIAN
BEGIN:VEVENT
SUMMARY:Vernissage Data Cultures
DTSTART:20220919T180000
DTEND:20220919T210000
UID:1356
DTSTAMP:20260425T210208
LOCATION:MEDIACAMPUS, 41 boulevard de la Prairie-au-Duc
DESCRIPTION:\n\n	\n		\n			Audencia, en partenariat avec Onepoint, a le plaisir de vous inviter au vernissage du dispositif d’art numérique\n			\n			DATA CULTURES\n			en présence de l’artiste Steven Bachimont\n			\n			Le lundi 19 septembre 2022 à 18h au MEDIACAMPUS, 41 Bd de la Prairie au Duc, 44200 Nantes\n			\n			Merci de nous confirmer votre participation\n			en vous inscrivant au lien ci-dessous\n			 \n		\n	\n\n\n\n	\n		\n			\n			\n				\n					\n						\n						\n							\n								\n									\n									inscription\n									\n								\n							\n						\n						\n						 \n					\n				\n			\n			\n		\n	\n\n\n\n	\n		\n			\n			\n				\n					\n						\n					\n				\n			\n			\n		\n	\n\n\n\n	\n		\n			\n			\n				\n					\n						Nous évoluons toutes et tous dans un monde, un contexte où le numérique est total : tout le temps, partout, sans possibilité de couper complètement. Quel regard critique adopter, sur nos gestes de travail et ce qu’ils impliquent ? Il s’agit de révéler ce smog numérique, ce brouillard industriel des temps modernes. Ainsi, durant une semaine, le son et l’image symboliseront les cheminées de l’usine en activité.\n						Collective et participative, cette installation convertit les mouvements de souris des travailleurs en éléments visuels et sonores.\n						\n						Technicien audiovisuel à Audencia depuis janvier 2022, Steven Bachimont est aussi un artiste pluridisciplinaire : circassien, compositeur mais également artiste numérique, il s’attache avant tout à la recherche d’harmonie et d’esthétique dans le mouvement quel qu'il soit.\n						\n						L'œuvre DATA CULTURES est visible du 19 au 23 septembre, de 9h à 18h\n						MEDIACAMPUS, 41 boulevard de la Prairie-au-Duc / Entrée libre et gratuite\n						Onepoint, 3 rue Lavoisier / Sur inscription\n						+ d'infos\n					\n				\n			\n			\n		\n	\n
BEGIN:VALARM
ACTION:DISPLAY
TRIGGER:-PT60M
DESCRIPTION:Vernissage Data Cultures
END:VALARM
END:VEVENT
END:VCALENDAR